BEGIN:VCALENDAR
VERSION:2.0
PRODID:-//ChamberMaster//Event Calendar 2.0//EN
METHOD:PUBLISH
X-PUBLISHED-TTL:P1H
REFRESH-INTERVAL:P1H
CALSCALE:GREGORIAN
BEGIN:VTIMEZONE
TZID:America/Chicago
BEGIN:DAYLIGHT
RRULE:FREQ=YEARLY;BYMONTH=3;BYDAY=2SU
DTSTART:20070101T000000
TZOFFSETFROM:-0600
TZOFFSETTO:-0500
TZNAME:Central Daylight Time
END:DAYLIGHT
BEGIN:STANDARD
RRULE:FREQ=YEARLY;BYMONTH=11;BYDAY=1SU
DTSTART:20070101T000000
TZOFFSETFROM:-0500
TZOFFSETTO:-0600
TZNAME:Central Standard Time
END:STANDARD
END:VTIMEZONE
BEGIN:VEVENT
DTSTART;TZID=America/Chicago:20251106T160000
DTEND;TZID=America/Chicago:20251106T190000
X-MICROSOFT-CDO-ALLDAYEVENT:FALSE
SUMMARY:2025 Ribbon Cutting: Feeding America Eastern Wisconsin
DESCRIPTION:Join us to celebrate the 10th Anniversary of Feeding America Eastern Wisconsin's Appleton Facility with a ribbon cutting!Feeding America Eastern Wisconsin is the largest hunger relief organization in Wisconsin\, with food banks in Milwaukee and Appleton. Founded in 1982 by the Rotary Club of Milwaukee\, the organization is a locally led and independently operated member of the national Feeding America network of food banks. In collaboration with nearly 600 hunger relief partners and trusted community-based programs\, Feeding America Eastern Wisconsin provides healthy\, nutritious food to neighbors facing hunger across 35 counties in Eastern Wisconsin. Committed to building stronger\, healthier communities\, the organization works to address the root causes of hunger through education\, strategic partnerships\, and innovative community-centered solutions. Learn more at FeedingAmericaWI.org.
X-ALT-DESC;FMTTYPE=text/html:<!DOCTYPE html><html><head><title></title></head><body aria-disabled="false"><p>Join us to celebrate the 10th Anniversary of Feeding America Eastern Wisconsin&#39\;s Appleton Facility with a ribbon cutting!</p><p><em>Feeding America Eastern Wisconsin is the largest hunger relief organization in Wisconsin\, with food banks in Milwaukee and Appleton. Founded in 1982 by the Rotary Club of Milwaukee\, the organization is a locally led and independently operated member of the national Feeding America network of food banks. In collaboration with nearly 600 hunger relief partners and trusted community-based programs\, Feeding America Eastern Wisconsin provides healthy\, nutritious food to neighbors facing hunger across 35 counties in Eastern Wisconsin. Committed to building stronger\, healthier communities\, the organization works to address the root causes of hunger through education\, strategic partnerships\, and innovative community-centered solutions. Learn more at FeedingAmericaWI.org.</em></p></body></html>
LOCATION:2911 W Evergreen Dr Appleton WI 54913-9202
UID:e.3965.1301746
SEQUENCE:3
DTSTAMP:20260420T165148Z
URL:https://members.foxcc.net/chamber-events/Details/2025-ribbon-cutting-feeding-america-eastern-wisconsin-1524381?sourceTypeId=Hub
END:VEVENT
END:VCALENDAR
