BEGIN:VCALENDAR
VERSION:2.0
PRODID:-//ChamberMaster//Event Calendar 2.0//EN
METHOD:PUBLISH
X-PUBLISHED-TTL:P1H
REFRESH-INTERVAL:P1H
CALSCALE:GREGORIAN
BEGIN:VTIMEZONE
TZID:America/Chicago
BEGIN:DAYLIGHT
RRULE:FREQ=YEARLY;BYMONTH=3;BYDAY=2SU
DTSTART:20070101T000000
TZOFFSETFROM:-0600
TZOFFSETTO:-0500
TZNAME:Central Daylight Time
END:DAYLIGHT
BEGIN:STANDARD
RRULE:FREQ=YEARLY;BYMONTH=11;BYDAY=1SU
DTSTART:20070101T000000
TZOFFSETFROM:-0500
TZOFFSETTO:-0600
TZNAME:Central Standard Time
END:STANDARD
END:VTIMEZONE
BEGIN:VEVENT
DTSTART;TZID=America/Chicago:20260514T130000
DTEND;TZID=America/Chicago:20260514T143000
X-MICROSOFT-CDO-ALLDAYEVENT:FALSE
SUMMARY:2026 Ribbon Cutting & Grand Opening: HOTWORX Appleton Darboy
DESCRIPTION:Join us to celebrate the grand opening of HOTWORX Appleton Darboy with a ribbon cutting!Event is open to Chamber Members from 1:00 PM- 2:00 PM with a tour and learning about HOTWORX and cut of the ribbon at 2:00 PMHOTWORX is a virtually instructed exercise program created for users to experience the many benefits of infrared heat absorption\, while completing a 30-minute Isometric workout or 15-minute High Intensity Interval Training (HIIT) session. As the infrared heat penetrates your body causing you to sweat\, the isometric postures further accelerate detoxification by physically removing the toxins from your organs through muscle contraction.
X-ALT-DESC;FMTTYPE=text/html:<!DOCTYPE html><html><head><title></title></head><body aria-disabled="false"><p>Join us to celebrate the grand opening of HOTWORX Appleton Darboy with a ribbon cutting!</p><p>Event is open to Chamber Members from 1:00 PM- 2:00 PM with a tour and learning about HOTWORX and <strong fr-original-style="" style="font-weight: 700\;">cut of the ribbon at 2:00 PM</strong></p><p><span style="color: rgb(0\, 0\, 0)\; font-family: Montserrat\, sans-serif\; font-size: 15.2px\; font-style: normal\; font-variant-ligatures: normal\; font-variant-caps: normal\; font-weight: 400\; letter-spacing: normal\; orphans: 2\; text-align: start\; text-indent: 0px\; text-transform: none\; widows: 2\; word-spacing: 0px\; -webkit-text-stroke-width: 0px\; white-space: normal\; background-color: rgb(255\, 255\, 255)\; text-decoration-thickness: initial\; text-decoration-style: initial\; text-decoration-color: initial\; float: none\; display: inline !important\;">HOTWORX is a virtually instructed exercise program created for users to experience the many benefits of infrared heat absorption\, while completing a 30-minute Isometric workout or 15-minute High Intensity Interval Training (HIIT) session. As the infrared heat penetrates your body causing you to sweat\, the isometric postures further accelerate detoxification by physically removing the toxins from your organs through muscle contraction.</span><span style="color: rgb(0\, 0\, 0)\;">&nbsp\;<br></span> </p></body></html>
LOCATION:N162 Eisenhower Dr Ste 850 Appleton WI 54915-6171
UID:e.3965.1446849
SEQUENCE:3
DTSTAMP:20260425T163358Z
URL:https://members.foxcc.net/chamber-events/Details/2026-ribbon-cutting-grand-opening-hotworx-appleton-darboy-1713659?sourceTypeId=Hub
END:VEVENT
END:VCALENDAR
